Package: wiggleplotr Version: 1.30.0 Command: /Library/Frameworks/R.framework/Resources/bin/R CMD check --install=check:wiggleplotr.install-out.txt --library=/Library/Frameworks/R.framework/Resources/library --no-vignettes --timings wiggleplotr_1.30.0.tar.gz StartedAt: 2024-11-20 03:52:48 -0500 (Wed, 20 Nov 2024) EndedAt: 2024-11-20 03:57:39 -0500 (Wed, 20 Nov 2024) EllapsedTime: 291.0 seconds RetCode: 0 Status: OK CheckDir: wiggleplotr.Rcheck Warnings: 0