Package: wiggleplotr Version: 1.30.0 Command: rm -rf wiggleplotr.buildbin-libdir && mkdir wiggleplotr.buildbin-libdir && /Users/biocbuild/BBS/utils/build-universal.sh wiggleplotr_1.30.0.tar.gz /Library/Frameworks/R.framework/Resources/bin/R wiggleplotr.buildbin-libdir StartedAt: 2025-01-31 13:55:50 -0500 (Fri, 31 Jan 2025) EndedAt: 2025-01-31 13:56:04 -0500 (Fri, 31 Jan 2025) EllapsedTime: 14.1 seconds RetCode: 0 Status: OK PackageFile: wiggleplotr_1.30.0.tgz PackageFileSize: 459.4 KiB