Package: wiggleplotr Version: 1.30.0 Command: /Library/Frameworks/R.framework/Resources/bin/R CMD check --install=check:wiggleplotr.install-out.txt --library=/Library/Frameworks/R.framework/Resources/library --no-vignettes --timings wiggleplotr_1.30.0.tar.gz StartedAt: 2025-01-31 11:48:45 -0500 (Fri, 31 Jan 2025) EndedAt: 2025-01-31 11:51:18 -0500 (Fri, 31 Jan 2025) EllapsedTime: 152.5 seconds RetCode: 0 Status: OK CheckDir: wiggleplotr.Rcheck Warnings: 0