Package: wiggleplotr Version: 1.30.0 Command: /home/biocbuild/bbs-3.20-bioc/R/bin/R CMD build --keep-empty-dirs --no-resave-data --md5 wiggleplotr StartedAt: 2025-01-30 19:38:41 -0500 (Thu, 30 Jan 2025) EndedAt: 2025-01-30 19:39:20 -0500 (Thu, 30 Jan 2025) EllapsedTime: 38.1 seconds RetCode: 0 Status: OK PackageFile: wiggleplotr_1.30.0.tar.gz PackageFileSize: 340.7 KiB