Package: wiggleplotr Version: 1.30.0 Command: F:\biocbuild\bbs-3.20-bioc\R\bin\R.exe CMD check --no-multiarch --install=check:wiggleplotr.install-out.txt --library=F:\biocbuild\bbs-3.20-bioc\R\library --no-vignettes --timings wiggleplotr_1.30.0.tar.gz StartedAt: 2025-02-04 07:30:40 -0500 (Tue, 04 Feb 2025) EndedAt: 2025-02-04 07:32:20 -0500 (Tue, 04 Feb 2025) EllapsedTime: 99.3 seconds RetCode: 0 Status: OK CheckDir: wiggleplotr.Rcheck Warnings: 0