Package: wiggleplotr Version: 1.30.0 Command: /home/biocbuild/R/R/bin/R CMD check --install=check:wiggleplotr.install-out.txt --library=/home/biocbuild/R/R/site-library --no-vignettes --timings wiggleplotr_1.30.0.tar.gz StartedAt: 2025-01-31 11:29:07 -0000 (Fri, 31 Jan 2025) EndedAt: 2025-01-31 11:30:26 -0000 (Fri, 31 Jan 2025) EllapsedTime: 79.1 seconds RetCode: 0 Status: OK CheckDir: wiggleplotr.Rcheck Warnings: 0