Package: wppi Version: 1.14.0 Maintainer: Ana Galhoz MaintainerEmail: ana.galhoz at helmholtz-muenchen.de git_url: https://git.bioconductor.org/packages/wppi git_branch: RELEASE_3_20 git_last_commit: 240f65a git_last_commit_date: 2024-10-29 10:58:10 -0500 (Tue, 29 Oct 2024)