Package: wppi Version: 1.14.0 Command: /Library/Frameworks/R.framework/Resources/bin/R CMD build --keep-empty-dirs --no-resave-data wppi StartedAt: 2025-01-31 10:17:37 -0500 (Fri, 31 Jan 2025) EndedAt: 2025-01-31 10:18:45 -0500 (Fri, 31 Jan 2025) EllapsedTime: 68.5 seconds RetCode: 0 Status: OK PackageFile: wppi_1.14.0.tar.gz PackageFileSize: 646.9 KiB