Package: wppi Version: 1.14.0 Command: /Library/Frameworks/R.framework/Resources/bin/R CMD check --install=check:wppi.install-out.txt --library=/Library/Frameworks/R.framework/Resources/library --no-vignettes --timings wppi_1.14.0.tar.gz StartedAt: 2025-02-01 13:22:36 -0500 (Sat, 01 Feb 2025) EndedAt: 2025-02-01 13:27:04 -0500 (Sat, 01 Feb 2025) EllapsedTime: 267.8 seconds RetCode: 0 Status: OK CheckDir: wppi.Rcheck Warnings: 0