Package: wppi Version: 1.14.0 Command: rm -rf wppi.buildbin-libdir && mkdir wppi.buildbin-libdir && /Users/biocbuild/BBS/utils/build-universal.sh wppi_1.14.0.tar.gz /Library/Frameworks/R.framework/Resources/bin/R wppi.buildbin-libdir StartedAt: 2025-01-31 13:55:55 -0500 (Fri, 31 Jan 2025) EndedAt: 2025-01-31 13:56:24 -0500 (Fri, 31 Jan 2025) EllapsedTime: 29.5 seconds RetCode: 0 Status: OK PackageFile: wppi_1.14.0.tgz PackageFileSize: 296.8 KiB