Package: wppi Version: 1.14.0 Command: /Library/Frameworks/R.framework/Resources/bin/R CMD build --keep-empty-dirs --no-resave-data wppi StartedAt: 2025-01-30 23:44:27 -0500 (Thu, 30 Jan 2025) EndedAt: 2025-01-30 23:46:40 -0500 (Thu, 30 Jan 2025) EllapsedTime: 133.4 seconds RetCode: 0 Status: OK PackageFile: wppi_1.14.0.tar.gz PackageFileSize: 646.6 KiB