Package: wppi Version: 1.14.0 Command: /home/biocbuild/bbs-3.20-bioc/R/bin/R CMD build --keep-empty-dirs --no-resave-data --md5 wppi StartedAt: 2025-01-30 19:38:45 -0500 (Thu, 30 Jan 2025) EndedAt: 2025-01-30 19:39:53 -0500 (Thu, 30 Jan 2025) EllapsedTime: 68.1 seconds RetCode: 0 Status: OK PackageFile: wppi_1.14.0.tar.gz PackageFileSize: 647.7 KiB