Package: wppi Version: 1.14.0 Command: chmod a+r wppi -R && F:\biocbuild\bbs-3.20-bioc\R\bin\R.exe CMD build --keep-empty-dirs --no-resave-data wppi StartedAt: 2025-01-30 22:32:35 -0500 (Thu, 30 Jan 2025) EndedAt: 2025-01-30 22:34:05 -0500 (Thu, 30 Jan 2025) EllapsedTime: 89.6 seconds RetCode: 0 Status: OK PackageFile: wppi_1.14.0.tar.gz PackageFileSize: 646.9 KiB