Package: wppi Version: 1.14.0 Command: /home/biocbuild/R/R/bin/R CMD build --keep-empty-dirs --no-resave-data wppi StartedAt: 2025-01-31 03:28:43 -0000 (Fri, 31 Jan 2025) EndedAt: 2025-01-31 03:31:46 -0000 (Fri, 31 Jan 2025) EllapsedTime: 183.1 seconds RetCode: 0 Status: OK PackageFile: wppi_1.14.0.tar.gz PackageFileSize: 676.8 KiB