Package: xcore Version: 1.10.0 Command: /Library/Frameworks/R.framework/Resources/bin/R CMD build --keep-empty-dirs --no-resave-data xcore StartedAt: 2025-02-04 10:35:26 -0500 (Tue, 04 Feb 2025) EndedAt: 2025-02-04 10:37:26 -0500 (Tue, 04 Feb 2025) EllapsedTime: 120.6 seconds RetCode: 0 Status: OK PackageFile: xcore_1.10.0.tar.gz PackageFileSize: 2.407 MiB