Package: xcore Version: 1.10.0 Command: /Library/Frameworks/R.framework/Resources/bin/R CMD check --install=check:xcore.install-out.txt --library=/Library/Frameworks/R.framework/Resources/library --no-vignettes --timings xcore_1.10.0.tar.gz StartedAt: 2025-02-05 14:18:19 -0500 (Wed, 05 Feb 2025) EndedAt: 2025-02-05 14:28:12 -0500 (Wed, 05 Feb 2025) EllapsedTime: 592.9 seconds RetCode: 0 Status: OK CheckDir: xcore.Rcheck Warnings: 0