Package: xcore Version: 1.10.0 Command: /Library/Frameworks/R.framework/Resources/bin/R CMD INSTALL xcore StartedAt: 2025-02-03 17:08:18 -0500 (Mon, 03 Feb 2025) EndedAt: 2025-02-03 17:08:47 -0500 (Mon, 03 Feb 2025) EllapsedTime: 28.6 seconds RetCode: 0 Status: OK