Package: xcore Version: 1.10.0 Command: /Library/Frameworks/R.framework/Resources/bin/R CMD build --keep-empty-dirs --no-resave-data xcore StartedAt: 2025-02-03 23:14:18 -0500 (Mon, 03 Feb 2025) EndedAt: 2025-02-03 23:17:20 -0500 (Mon, 03 Feb 2025) EllapsedTime: 182.4 seconds RetCode: 0 Status: OK PackageFile: xcore_1.10.0.tar.gz PackageFileSize: 2.407 MiB