Package: xcore Version: 1.10.0 Command: /Library/Frameworks/R.framework/Resources/bin/R CMD check --install=check:xcore.install-out.txt --library=/Library/Frameworks/R.framework/Resources/library --no-vignettes --timings xcore_1.10.0.tar.gz StartedAt: 2025-02-04 11:56:06 -0500 (Tue, 04 Feb 2025) EndedAt: 2025-02-04 12:07:02 -0500 (Tue, 04 Feb 2025) EllapsedTime: 655.4 seconds RetCode: 0 Status: OK CheckDir: xcore.Rcheck Warnings: 0