Package: xcore Version: 1.10.0 Command: /home/biocbuild/bbs-3.20-bioc/R/bin/R CMD build --keep-empty-dirs --no-resave-data --md5 xcore StartedAt: 2025-02-03 19:48:46 -0500 (Mon, 03 Feb 2025) EndedAt: 2025-02-03 19:50:10 -0500 (Mon, 03 Feb 2025) EllapsedTime: 84.1 seconds RetCode: 0 Status: OK PackageFile: xcore_1.10.0.tar.gz PackageFileSize: 2.409 MiB