Package: xcore Version: 1.10.0 Command: /home/biocbuild/bbs-3.20-bioc/R/bin/R CMD check --install=check:xcore.install-out.txt --library=/home/biocbuild/bbs-3.20-bioc/R/site-library --timings xcore_1.10.0.tar.gz StartedAt: 2025-02-04 03:37:04 -0500 (Tue, 04 Feb 2025) EndedAt: 2025-02-04 03:45:29 -0500 (Tue, 04 Feb 2025) EllapsedTime: 505.8 seconds RetCode: 0 Status: OK CheckDir: xcore.Rcheck Warnings: 0