Package: xcore Version: 1.10.0 Command: /home/biocbuild/bbs-3.20-bioc/R/bin/R CMD INSTALL xcore StartedAt: 2025-02-03 15:50:37 -0500 (Mon, 03 Feb 2025) EndedAt: 2025-02-03 15:51:03 -0500 (Mon, 03 Feb 2025) EllapsedTime: 25.8 seconds RetCode: 0 Status: OK