Package: xcore Version: 1.10.0 Command: rm -rf xcore.buildbin-libdir && mkdir xcore.buildbin-libdir && F:\biocbuild\bbs-3.20-bioc\R\bin\R.exe CMD INSTALL --build --library=xcore.buildbin-libdir xcore_1.10.0.tar.gz StartedAt: 2025-02-04 09:46:11 -0500 (Tue, 04 Feb 2025) EndedAt: 2025-02-04 09:46:43 -0500 (Tue, 04 Feb 2025) EllapsedTime: 31.6 seconds RetCode: 0 Status: OK PackageFile: xcore_1.10.0.zip PackageFileSize: 1.84 MiB