Package: xcore Version: 1.10.0 Command: chmod a+r xcore -R && F:\biocbuild\bbs-3.20-bioc\R\bin\R.exe CMD build --keep-empty-dirs --no-resave-data xcore StartedAt: 2025-02-03 22:50:40 -0500 (Mon, 03 Feb 2025) EndedAt: 2025-02-03 22:53:17 -0500 (Mon, 03 Feb 2025) EllapsedTime: 156.9 seconds RetCode: 0 Status: OK PackageFile: xcore_1.10.0.tar.gz PackageFileSize: 2.333 MiB