Package: xcore Version: 1.10.0 Command: F:\biocbuild\bbs-3.20-bioc\R\bin\R.exe CMD check --no-multiarch --install=check:xcore.install-out.txt --library=F:\biocbuild\bbs-3.20-bioc\R\library --no-vignettes --timings xcore_1.10.0.tar.gz StartedAt: 2025-02-04 07:31:35 -0500 (Tue, 04 Feb 2025) EndedAt: 2025-02-04 07:39:25 -0500 (Tue, 04 Feb 2025) EllapsedTime: 470.7 seconds RetCode: 0 Status: OK CheckDir: xcore.Rcheck Warnings: 0