Package: xcore Version: 1.10.0 Command: F:\biocbuild\bbs-3.20-bioc\R\bin\R.exe CMD INSTALL xcore StartedAt: 2025-02-03 16:33:01 -0500 (Mon, 03 Feb 2025) EndedAt: 2025-02-03 16:33:34 -0500 (Mon, 03 Feb 2025) EllapsedTime: 32.9 seconds RetCode: 0 Status: OK