Package: xcore Version: 1.10.0 Command: /home/biocbuild/R/R/bin/R CMD build --keep-empty-dirs --no-resave-data xcore StartedAt: 2025-02-04 03:54:09 -0000 (Tue, 04 Feb 2025) EndedAt: 2025-02-04 03:56:30 -0000 (Tue, 04 Feb 2025) EllapsedTime: 141.2 seconds RetCode: 0 Status: OK PackageFile: xcore_1.10.0.tar.gz PackageFileSize: 2.365 MiB