Package: xcore Version: 1.10.0 Command: /home/biocbuild/R/R/bin/R CMD check --install=check:xcore.install-out.txt --library=/home/biocbuild/R/R/site-library --no-vignettes --timings xcore_1.10.0.tar.gz StartedAt: 2025-02-04 12:09:48 -0000 (Tue, 04 Feb 2025) EndedAt: 2025-02-04 12:17:58 -0000 (Tue, 04 Feb 2025) EllapsedTime: 489.3 seconds RetCode: 0 Status: OK CheckDir: xcore.Rcheck Warnings: 0