Package: xcore Version: 1.10.0 Command: /home/biocbuild/R/R/bin/R CMD INSTALL xcore StartedAt: 2025-02-03 21:04:58 -0000 (Mon, 03 Feb 2025) EndedAt: 2025-02-03 21:05:29 -0000 (Mon, 03 Feb 2025) EllapsedTime: 30.6 seconds RetCode: 0 Status: OK