Package: xenLite Version: 1.0.0 Command: /Library/Frameworks/R.framework/Resources/bin/R CMD build --keep-empty-dirs --no-resave-data xenLite StartedAt: 2025-02-04 10:36:13 -0500 (Tue, 04 Feb 2025) EndedAt: 2025-02-04 10:37:24 -0500 (Tue, 04 Feb 2025) EllapsedTime: 70.6 seconds RetCode: 0 Status: OK PackageFile: xenLite_1.0.0.tar.gz PackageFileSize: 3.35 MiB