Package: xenLite Version: 1.0.0 Command: rm -rf xenLite.buildbin-libdir && mkdir xenLite.buildbin-libdir && /Users/biocbuild/BBS/utils/build-universal.sh xenLite_1.0.0.tar.gz /Library/Frameworks/R.framework/Resources/bin/R xenLite.buildbin-libdir StartedAt: 2025-01-31 13:56:04 -0500 (Fri, 31 Jan 2025) EndedAt: 2025-01-31 13:57:15 -0500 (Fri, 31 Jan 2025) EllapsedTime: 71.2 seconds RetCode: 0 Status: OK PackageFile: xenLite_1.0.0.tgz PackageFileSize: 3.018 MiB