Package: xenLite Version: 1.0.0 Command: /Library/Frameworks/R.framework/Resources/bin/R CMD INSTALL xenLite StartedAt: 2025-02-03 16:01:51 -0500 (Mon, 03 Feb 2025) EndedAt: 2025-02-03 16:02:59 -0500 (Mon, 03 Feb 2025) EllapsedTime: 68.5 seconds RetCode: 0 Status: OK