Package: xenLite Version: 1.0.0 Command: /home/biocbuild/bbs-3.20-bioc/R/bin/R CMD check --install=check:xenLite.install-out.txt --library=/home/biocbuild/bbs-3.20-bioc/R/site-library --timings xenLite_1.0.0.tar.gz StartedAt: 2025-02-04 03:37:28 -0500 (Tue, 04 Feb 2025) EndedAt: 2025-02-04 03:42:18 -0500 (Tue, 04 Feb 2025) EllapsedTime: 290.3 seconds RetCode: 0 Status: OK CheckDir: xenLite.Rcheck Warnings: 0