Package: xenLite Version: 1.0.0 Command: F:\biocbuild\bbs-3.20-bioc\R\bin\R.exe CMD INSTALL xenLite StartedAt: 2025-02-03 16:44:36 -0500 (Mon, 03 Feb 2025) EndedAt: 2025-02-03 16:45:27 -0500 (Mon, 03 Feb 2025) EllapsedTime: 51.2 seconds RetCode: 0 Status: OK