Package: xmapbridge Version: 1.64.0 Command: rm -rf xmapbridge.buildbin-libdir && mkdir xmapbridge.buildbin-libdir && /Users/biocbuild/BBS/utils/build-universal.sh xmapbridge_1.64.0.tar.gz /Library/Frameworks/R.framework/Resources/bin/R xmapbridge.buildbin-libdir StartedAt: 2025-01-31 13:56:14 -0500 (Fri, 31 Jan 2025) EndedAt: 2025-01-31 13:56:22 -0500 (Fri, 31 Jan 2025) EllapsedTime: 7.7 seconds RetCode: 0 Status: OK PackageFile: xmapbridge_1.64.0.tgz PackageFileSize: 1.762 MiB