Package: xmapbridge Version: 1.64.0 Command: /Library/Frameworks/R.framework/Resources/bin/R CMD build --keep-empty-dirs --no-resave-data xmapbridge StartedAt: 2025-02-03 23:14:57 -0500 (Mon, 03 Feb 2025) EndedAt: 2025-02-03 23:16:14 -0500 (Mon, 03 Feb 2025) EllapsedTime: 77.3 seconds RetCode: 0 Status: OK PackageFile: xmapbridge_1.64.0.tar.gz PackageFileSize: 3.019 MiB