Package: yamss Version: 1.32.0 Command: /Library/Frameworks/R.framework/Resources/bin/R CMD build --keep-empty-dirs --no-resave-data yamss StartedAt: 2025-02-04 10:38:07 -0500 (Tue, 04 Feb 2025) EndedAt: 2025-02-04 10:40:45 -0500 (Tue, 04 Feb 2025) EllapsedTime: 157.4 seconds RetCode: 0 Status: OK PackageFile: yamss_1.32.0.tar.gz PackageFileSize: 424.6 KiB