Package: yamss
Version: 1.32.0
Command: rm -rf yamss.buildbin-libdir && mkdir yamss.buildbin-libdir && /Users/biocbuild/BBS/utils/build-universal.sh yamss_1.32.0.tar.gz /Library/Frameworks/R.framework/Resources/bin/R yamss.buildbin-libdir
StartedAt: 2025-02-18 13:23:43 -0500 (Tue, 18 Feb 2025)
EndedAt: 2025-02-18 13:25:04 -0500 (Tue, 18 Feb 2025)
EllapsedTime: 80.7 seconds
RetCode: 0
Status: OK
PackageFile: yamss_1.32.0.tgz
PackageFileSize: 731.4 <A href="http://en.wikipedia.org/wiki/KiB" target="_blank">KiB</A>