Package: yamss Version: 1.32.0 Command: /home/biocbuild/bbs-3.20-bioc/R/bin/R CMD INSTALL yamss StartedAt: 2025-02-03 15:39:16 -0500 (Mon, 03 Feb 2025) EndedAt: 2025-02-03 15:39:43 -0500 (Mon, 03 Feb 2025) EllapsedTime: 27.1 seconds RetCode: 0 Status: OK