Package: yamss Version: 1.32.0 Command: F:\biocbuild\bbs-3.20-bioc\R\bin\R.exe CMD INSTALL yamss StartedAt: 2025-02-03 16:19:44 -0500 (Mon, 03 Feb 2025) EndedAt: 2025-02-03 16:20:23 -0500 (Mon, 03 Feb 2025) EllapsedTime: 39.3 seconds RetCode: 0 Status: OK