Package: yamss
Version: 1.32.0
Command: /home/biocbuild/bbs-3.20-bioc/R/bin/R CMD build --keep-empty-dirs --no-resave-data yamss
StartedAt: 2024-11-19 22:29:20 -0500 (Tue, 19 Nov 2024)
EndedAt: 2024-11-19 22:31:14 -0500 (Tue, 19 Nov 2024)
EllapsedTime: 114.5 seconds
RetCode: 0
Status: OK
PackageFile: yamss_1.32.0.tar.gz
PackageFileSize: 423.4 <A href="http://en.wikipedia.org/wiki/KiB" target="_blank">KiB</A>