Package: yarn Version: 1.32.0 Command: /Library/Frameworks/R.framework/Resources/bin/R CMD check --install=check:yarn.install-out.txt --library=/Library/Frameworks/R.framework/Resources/library --no-vignettes --timings yarn_1.32.0.tar.gz StartedAt: 2025-02-05 14:26:09 -0500 (Wed, 05 Feb 2025) EndedAt: 2025-02-05 14:33:30 -0500 (Wed, 05 Feb 2025) EllapsedTime: 441.3 seconds RetCode: 0 Status: OK CheckDir: yarn.Rcheck Warnings: 0