Package: yarn Version: 1.32.0 Command: rm -rf yarn.buildbin-libdir && mkdir yarn.buildbin-libdir && /Users/biocbuild/BBS/utils/build-universal.sh yarn_1.32.0.tar.gz /Library/Frameworks/R.framework/Resources/bin/R yarn.buildbin-libdir StartedAt: 2025-01-31 13:56:25 -0500 (Fri, 31 Jan 2025) EndedAt: 2025-01-31 13:57:45 -0500 (Fri, 31 Jan 2025) EllapsedTime: 79.6 seconds RetCode: 0 Status: OK PackageFile: yarn_1.32.0.tgz PackageFileSize: 4.241 MiB