Package: yarn Version: 1.32.0 Command: /Library/Frameworks/R.framework/Resources/bin/R CMD build --keep-empty-dirs --no-resave-data yarn StartedAt: 2025-02-03 23:15:35 -0500 (Mon, 03 Feb 2025) EndedAt: 2025-02-03 23:18:14 -0500 (Mon, 03 Feb 2025) EllapsedTime: 159.0 seconds RetCode: 0 Status: OK PackageFile: yarn_1.32.0.tar.gz PackageFileSize: 2.973 MiB