Package: yarn Version: 1.32.0 Command: /Library/Frameworks/R.framework/Resources/bin/R CMD INSTALL yarn StartedAt: 2025-02-03 16:46:33 -0500 (Mon, 03 Feb 2025) EndedAt: 2025-02-03 16:48:10 -0500 (Mon, 03 Feb 2025) EllapsedTime: 96.5 seconds RetCode: 0 Status: OK