Package: yarn Version: 1.32.0 Command: /home/biocbuild/bbs-3.20-bioc/R/bin/R CMD check --install=check:yarn.install-out.txt --library=/home/biocbuild/bbs-3.20-bioc/R/site-library --timings yarn_1.32.0.tar.gz StartedAt: 2025-02-04 03:39:00 -0500 (Tue, 04 Feb 2025) EndedAt: 2025-02-04 03:44:55 -0500 (Tue, 04 Feb 2025) EllapsedTime: 355.2 seconds RetCode: 0 Status: OK CheckDir: yarn.Rcheck Warnings: 0