Package: yarn Version: 1.32.0 Command: /home/biocbuild/bbs-3.20-bioc/R/bin/R CMD INSTALL yarn StartedAt: 2025-02-03 16:06:10 -0500 (Mon, 03 Feb 2025) EndedAt: 2025-02-03 16:07:05 -0500 (Mon, 03 Feb 2025) EllapsedTime: 54.8 seconds RetCode: 0 Status: OK