Package: zellkonverter Version: 1.16.0 Command: /Library/Frameworks/R.framework/Resources/bin/R CMD build --keep-empty-dirs --no-resave-data zellkonverter StartedAt: 2025-01-31 10:23:36 -0500 (Fri, 31 Jan 2025) EndedAt: 2025-01-31 10:24:50 -0500 (Fri, 31 Jan 2025) EllapsedTime: 73.8 seconds RetCode: 0 Status: OK PackageFile: zellkonverter_1.16.0.tar.gz PackageFileSize: 1.127 MiB