Package: zellkonverter Version: 1.16.0 Command: /Library/Frameworks/R.framework/Resources/bin/R CMD INSTALL zellkonverter StartedAt: 2025-01-30 15:27:30 -0500 (Thu, 30 Jan 2025) EndedAt: 2025-01-30 15:27:52 -0500 (Thu, 30 Jan 2025) EllapsedTime: 22.4 seconds RetCode: 0 Status: OK