Package: zellkonverter Version: 1.16.0 Command: /home/biocbuild/bbs-3.20-bioc/R/bin/R CMD build --keep-empty-dirs --no-resave-data --md5 zellkonverter StartedAt: 2025-01-30 19:39:53 -0500 (Thu, 30 Jan 2025) EndedAt: 2025-01-30 19:40:45 -0500 (Thu, 30 Jan 2025) EllapsedTime: 52.7 seconds RetCode: 0 Status: OK PackageFile: zellkonverter_1.16.0.tar.gz PackageFileSize: 1.129 MiB